BEGIN:VCALENDAR
VERSION:2.0
PRODID:-//Radio Club GrupoDX San Miguel - ECPv6.15.20//NONSGML v1.0//EN
CALSCALE:GREGORIAN
METHOD:PUBLISH
X-ORIGINAL-URL:https://www.lu5dsm.com.ar
X-WR-CALDESC:Eventos para Radio Club GrupoDX San Miguel
REFRESH-INTERVAL;VALUE=DURATION:PT1H
X-Robots-Tag:noindex
X-PUBLISHED-TTL:PT1H
BEGIN:VTIMEZONE
TZID:America/Argentina/Buenos_Aires
BEGIN:STANDARD
TZOFFSETFROM:-0300
TZOFFSETTO:-0300
TZNAME:-03
DTSTART:20230101T000000
END:STANDARD
END:VTIMEZONE
BEGIN:VEVENT
DTSTART;VALUE=DATE:20241116
DTEND;VALUE=DATE:20241117
DTSTAMP:20260423T114557
CREATED:20241110T175716Z
LAST-MODIFIED:20241110T175716Z
UID:2608-1731715200-1731801599@www.lu5dsm.com.ar
SUMMARY:Estación Ferroviaria Baradero
DESCRIPTION:
URL:https://www.lu5dsm.com.ar/event/estacion-ferroviaria-baradero/
LOCATION:Baradero\, Argentina
ATTACH;FMTTYPE=image/jpeg:https://www.lu5dsm.com.ar/wp-content/uploads/2024/11/WhatsApp-Image-2024-11-10-at-00.39.25.jpeg
END:VEVENT
BEGIN:VEVENT
DTSTART;VALUE=DATE:20241123
DTEND;VALUE=DATE:20241124
DTSTAMP:20260423T114557
CREATED:20241120T170823Z
LAST-MODIFIED:20241120T170823Z
UID:2612-1732320000-1732406399@www.lu5dsm.com.ar
SUMMARY:ACTIVACIÓN EST. GENERAL LEMOS
DESCRIPTION:
URL:https://www.lu5dsm.com.ar/event/activacion-est-general-lemos/
ATTACH;FMTTYPE=image/jpeg:https://www.lu5dsm.com.ar/wp-content/uploads/2024/11/IMG-20241119-WA0047.jpg
END:VEVENT
END:VCALENDAR