BEGIN:VCALENDAR
VERSION:2.0
PRODID:-//Radio Club GrupoDX San Miguel - ECPv6.15.20//NONSGML v1.0//EN
CALSCALE:GREGORIAN
METHOD:PUBLISH
X-ORIGINAL-URL:https://www.lu5dsm.com.ar
X-WR-CALDESC:Eventos para Radio Club GrupoDX San Miguel
REFRESH-INTERVAL;VALUE=DURATION:PT1H
X-Robots-Tag:noindex
X-PUBLISHED-TTL:PT1H
BEGIN:VTIMEZONE
TZID:America/Argentina/Buenos_Aires
BEGIN:STANDARD
TZOFFSETFROM:-0300
TZOFFSETTO:-0300
TZNAME:-03
DTSTART:20230101T000000
END:STANDARD
END:VTIMEZONE
BEGIN:VEVENT
DTSTART;TZID=America/Argentina/Buenos_Aires:20241001T000000
DTEND;TZID=America/Argentina/Buenos_Aires:20241006T235900
DTSTAMP:20260423T131421
CREATED:20240926T162227Z
LAST-MODIFIED:20240926T162227Z
UID:2579-1727740800-1728259140@www.lu5dsm.com.ar
SUMMARY:Se viene el 14°Aniversario
DESCRIPTION:
URL:https://www.lu5dsm.com.ar/event/se-viene-el-14aniversario/
ATTACH;FMTTYPE=image/jpeg:https://www.lu5dsm.com.ar/wp-content/uploads/2024/09/WhatsApp-Image-2024-09-26-at-11.10.46.jpeg
END:VEVENT
BEGIN:VEVENT
DTSTART;VALUE=DATE:20241019
DTEND;VALUE=DATE:20241020
DTSTAMP:20260423T131421
CREATED:20241018T035834Z
LAST-MODIFIED:20241018T035834Z
UID:2598-1729296000-1729382399@www.lu5dsm.com.ar
SUMMARY:Activación\, Estación Bella Vista\, Ferrocarril San Martín
DESCRIPTION:
URL:https://www.lu5dsm.com.ar/event/activacion-estacion-bella-vista-ferrocarril-san-martin/
ATTACH;FMTTYPE=image/jpeg:https://www.lu5dsm.com.ar/wp-content/uploads/2024/10/WhatsApp-Image-2024-10-17-at-20.30.01.jpeg
END:VEVENT
END:VCALENDAR