BEGIN:VCALENDAR
VERSION:2.0
PRODID:-//Radio Club GrupoDX San Miguel - ECPv6.15.20//NONSGML v1.0//EN
CALSCALE:GREGORIAN
METHOD:PUBLISH
X-WR-CALNAME:Radio Club GrupoDX San Miguel
X-ORIGINAL-URL:https://www.lu5dsm.com.ar
X-WR-CALDESC:Eventos para Radio Club GrupoDX San Miguel
REFRESH-INTERVAL;VALUE=DURATION:PT1H
X-Robots-Tag:noindex
X-PUBLISHED-TTL:PT1H
BEGIN:VTIMEZONE
TZID:America/Argentina/Buenos_Aires
BEGIN:STANDARD
TZOFFSETFROM:-0300
TZOFFSETTO:-0300
TZNAME:-03
DTSTART:20230101T000000
END:STANDARD
END:VTIMEZONE
BEGIN:VEVENT
DTSTART;TZID=America/Argentina/Buenos_Aires:20240913T000000
DTEND;TZID=America/Argentina/Buenos_Aires:20240915T235900
DTSTAMP:20260423T143433
CREATED:20240901T201211Z
LAST-MODIFIED:20240901T201211Z
UID:2547-1726185600-1726444740@www.lu5dsm.com.ar
SUMMARY:44° Aniversario Cuerpo de Bomberos Voluntarios de Arroyo Seco
DESCRIPTION:
URL:https://www.lu5dsm.com.ar/event/44-aniversario-cuerpo-de-bomberos-voluntarios-de-arroyo-seco/
ATTACH;FMTTYPE=image/jpeg:https://www.lu5dsm.com.ar/wp-content/uploads/2024/09/Screenshot_20240901_170219_Drive.jpg
END:VEVENT
BEGIN:VEVENT
DTSTART;VALUE=DATE:20240914
DTEND;VALUE=DATE:20240915
DTSTAMP:20260423T143433
CREATED:20240913T165909Z
LAST-MODIFIED:20240913T165909Z
UID:2554-1726272000-1726358399@www.lu5dsm.com.ar
SUMMARY:Activación Estación Muñiz
DESCRIPTION:
URL:https://www.lu5dsm.com.ar/event/activacion-estacion-muniz-2/
ATTACH;FMTTYPE=image/jpeg:https://www.lu5dsm.com.ar/wp-content/uploads/2024/09/WhatsApp-Image-2024-09-12-at-20.05.11.jpeg
END:VEVENT
BEGIN:VEVENT
DTSTART;TZID=America/Argentina/Buenos_Aires:20240921T000000
DTEND;TZID=America/Argentina/Buenos_Aires:20240929T235900
DTSTAMP:20260423T143433
CREATED:20240910T202521Z
LAST-MODIFIED:20240917T205517Z
UID:2550-1726876800-1727654340@www.lu5dsm.com.ar
SUMMARY:FIESTAS PATRONALES DE SAN MIGUEL
DESCRIPTION:
URL:https://www.lu5dsm.com.ar/event/fiestas-patronales-de-san-miguel/
ATTACH;FMTTYPE=image/jpeg:https://www.lu5dsm.com.ar/wp-content/uploads/2024/09/IMG-20240910-WA0057.jpg
END:VEVENT
BEGIN:VEVENT
DTSTART;VALUE=DATE:20240929
DTEND;VALUE=DATE:20240930
DTSTAMP:20260423T143433
CREATED:20240926T161750Z
LAST-MODIFIED:20240926T161750Z
UID:2576-1727568000-1727654399@www.lu5dsm.com.ar
SUMMARY:ULTIMA FECHA!!!!!!!!!!
DESCRIPTION:
URL:https://www.lu5dsm.com.ar/event/ultima-fecha/
ATTACH;FMTTYPE=image/jpeg:https://www.lu5dsm.com.ar/wp-content/uploads/2024/09/WhatsApp-Image-2024-09-26-at-09.57.07.jpeg
END:VEVENT
END:VCALENDAR