BEGIN:VCALENDAR
VERSION:2.0
PRODID:-//Radio Club GrupoDX San Miguel - ECPv6.15.20//NONSGML v1.0//EN
CALSCALE:GREGORIAN
METHOD:PUBLISH
X-WR-CALNAME:Radio Club GrupoDX San Miguel
X-ORIGINAL-URL:https://www.lu5dsm.com.ar
X-WR-CALDESC:Eventos para Radio Club GrupoDX San Miguel
REFRESH-INTERVAL;VALUE=DURATION:PT1H
X-Robots-Tag:noindex
X-PUBLISHED-TTL:PT1H
BEGIN:VTIMEZONE
TZID:America/Argentina/Buenos_Aires
BEGIN:STANDARD
TZOFFSETFROM:-0300
TZOFFSETTO:-0300
TZNAME:-03
DTSTART:20230101T000000
END:STANDARD
END:VTIMEZONE
BEGIN:VEVENT
DTSTART;VALUE=DATE:20240707
DTEND;VALUE=DATE:20240708
DTSTAMP:20260423T175119
CREATED:20240702T183822Z
LAST-MODIFIED:20240702T183822Z
UID:2486-1720310400-1720396799@www.lu5dsm.com.ar
SUMMARY:4 Actividad del Certificado por el 160° Aniversario de San Miguel
DESCRIPTION:
URL:https://www.lu5dsm.com.ar/event/4-actividad-del-certificado-por-el-160-aniversario-de-san-miguel/
ATTACH;FMTTYPE=image/jpeg:https://www.lu5dsm.com.ar/wp-content/uploads/2024/07/WhatsApp-Image-2024-07-02-at-14.57.13.jpeg
END:VEVENT
BEGIN:VEVENT
DTSTART;VALUE=DATE:20240727
DTEND;VALUE=DATE:20240728
DTSTAMP:20260423T175119
CREATED:20240724T200536Z
LAST-MODIFIED:20240724T200536Z
UID:2524-1722038400-1722124799@www.lu5dsm.com.ar
SUMMARY:160° Aniversario de San Miguel
DESCRIPTION:
URL:https://www.lu5dsm.com.ar/event/160-aniversario-de-san-miguel/
ATTACH;FMTTYPE=image/jpeg:https://www.lu5dsm.com.ar/wp-content/uploads/2024/07/WhatsApp-Image-2024-07-22-at-22.05.13.jpeg
END:VEVENT
END:VCALENDAR