BEGIN:VCALENDAR
VERSION:2.0
PRODID:-//Radio Club GrupoDX San Miguel - ECPv6.15.20//NONSGML v1.0//EN
CALSCALE:GREGORIAN
METHOD:PUBLISH
X-ORIGINAL-URL:https://www.lu5dsm.com.ar
X-WR-CALDESC:Eventos para Radio Club GrupoDX San Miguel
REFRESH-INTERVAL;VALUE=DURATION:PT1H
X-Robots-Tag:noindex
X-PUBLISHED-TTL:PT1H
BEGIN:VTIMEZONE
TZID:America/Argentina/Buenos_Aires
BEGIN:STANDARD
TZOFFSETFROM:-0300
TZOFFSETTO:-0300
TZNAME:-03
DTSTART:20230101T000000
END:STANDARD
END:VTIMEZONE
BEGIN:VEVENT
DTSTART;VALUE=DATE:20240810
DTEND;VALUE=DATE:20240811
DTSTAMP:20260423T175242
CREATED:20240807T192523Z
LAST-MODIFIED:20240807T192523Z
UID:2530-1723248000-1723334399@www.lu5dsm.com.ar
SUMMARY:Certificado 160° Aniversario de San Miguel
DESCRIPTION:
URL:https://www.lu5dsm.com.ar/event/certificado-160-aniversario-de-san-miguel/
ATTACH;FMTTYPE=image/jpeg:https://www.lu5dsm.com.ar/wp-content/uploads/2024/08/WhatsApp-Image-2024-08-07-at-11.59.35.jpeg
END:VEVENT
END:VCALENDAR