BEGIN:VCALENDAR
VERSION:2.0
PRODID:-//Radio Club GrupoDX San Miguel - ECPv6.15.20//NONSGML v1.0//EN
CALSCALE:GREGORIAN
METHOD:PUBLISH
X-ORIGINAL-URL:https://www.lu5dsm.com.ar
X-WR-CALDESC:Eventos para Radio Club GrupoDX San Miguel
REFRESH-INTERVAL;VALUE=DURATION:PT1H
X-Robots-Tag:noindex
X-PUBLISHED-TTL:PT1H
BEGIN:VTIMEZONE
TZID:America/Argentina/Buenos_Aires
BEGIN:STANDARD
TZOFFSETFROM:-0300
TZOFFSETTO:-0300
TZNAME:-03
DTSTART:20230101T000000
END:STANDARD
END:VTIMEZONE
BEGIN:VEVENT
DTSTART;TZID=America/Argentina/Buenos_Aires:20240530T100000
DTEND;TZID=America/Argentina/Buenos_Aires:20240603T190000
DTSTAMP:20260423T205636
CREATED:20240528T205925Z
LAST-MODIFIED:20240528T211302Z
UID:2406-1717063200-1717441200@www.lu5dsm.com.ar
SUMMARY:4° Fin de semana de Bomberos Voluntarios
DESCRIPTION:
URL:https://www.lu5dsm.com.ar/event/4fin-de-semana-de-bomberos-voluntarios/
ATTACH;FMTTYPE=image/jpeg:https://www.lu5dsm.com.ar/wp-content/uploads/2024/05/WhatsApp-Image-2024-05-28-at-18.10.42.jpeg
END:VEVENT
BEGIN:VEVENT
DTSTART;TZID=America/Argentina/Buenos_Aires:20240602T100000
DTEND;TZID=America/Argentina/Buenos_Aires:20240602T190000
DTSTAMP:20260423T205636
CREATED:20240528T210328Z
LAST-MODIFIED:20240530T054311Z
UID:2409-1717322400-1717354800@www.lu5dsm.com.ar
SUMMARY:Certificado Héroes de la Patria
DESCRIPTION:
URL:https://www.lu5dsm.com.ar/event/certificado-heroes-de-la-patria/
ATTACH;FMTTYPE=image/jpeg:https://www.lu5dsm.com.ar/wp-content/uploads/2024/05/441944482_122116313246293049_171558931269555052_n.jpg
END:VEVENT
END:VCALENDAR